BEGIN:VCALENDAR
VERSION:2.0
PRODID:-//Tukios.com/
BEGIN:VEVENT
UID:b8a590be-e253-48e2-81f6-d6f9d784f433@www.campbellplumlymilburnfuneralhome.com
DTSTAMP:20260419T231908Z
DTSTART:20260421T230000Z
DTEND:20260422T000000Z
SUMMARY:Funeral Service
DESCRIPTION:
URL:https://www.campbellplumlymilburnfuneralhome.com/obituaries/christopher-otis-lucas
LOCATION: 319 N Chestnut St  Barnesville OH 43713
GEO:39.990472;-81.1760637
END:VEVENT
END:VCALENDAR