BEGIN:VCALENDAR
VERSION:2.0
PRODID:-//Tukios.com/
BEGIN:VEVENT
UID:3defdd6d-07fb-420d-9fd1-5250392e9bce@www.campbellplumlymilburnfuneralhome.com
DTSTAMP:20260419T232009Z
DTSTART:20260421T190000Z
DTEND:20260421T230000Z
SUMMARY:Visitation
DESCRIPTION:
URL:https://www.campbellplumlymilburnfuneralhome.com/obituaries/christopher-otis-lucas
LOCATION: 319 N Chestnut St  Barnesville OH 43713
GEO:39.990472;-81.1760637
END:VEVENT
END:VCALENDAR